BEGIN:VCALENDAR
VERSION:2.0
PRODID:-//Squarespace Inc/Squarespace 6//v6//EN
BEGIN:VEVENT
UID:5afcfd73352f5327ad17db6a@squarespace.com
DTSTAMP:20180517T035731Z
DTSTART:20180527T230000Z
DTEND:20180528T030000Z
SUMMARY:SHOW QUEEN SWITCH
END:VEVENT
END:VCALENDAR
