BEGIN:VCALENDAR
VERSION:2.0
PRODID:-//Squarespace Inc/Squarespace 6//v6//EN
BEGIN:VEVENT
UID:5aeaa3e60e2e725df964ccc2@squarespace.com
DTSTAMP:20180515T011340Z
DTSTART:20180527T020000Z
DTEND:20180527T070000Z
SUMMARY:BUMP
END:VEVENT
END:VCALENDAR
