BEGIN:VCALENDAR
VERSION:2.0
PRODID:-//Squarespace Inc/Squarespace 6//v6//EN
BEGIN:VEVENT
UID:5afa3444aa4a9925e93023d4@squarespace.com
DTSTAMP:20180515T011351Z
DTSTART:20180624T020000Z
DTEND:20180624T070000Z
SUMMARY:BUMP
END:VEVENT
END:VCALENDAR
