BEGIN:VCALENDAR
VERSION:2.0
PRODID:-//Squarespace Inc/Squarespace 6//v6//EN
BEGIN:VEVENT
UID:5af11292352f538d742a968e@squarespace.com
DTSTAMP:20180515T013551Z
DTSTART:20180520T020000Z
DTEND:20180520T070000Z
SUMMARY:OUTCAST
END:VEVENT
END:VCALENDAR
