BEGIN:VCALENDAR
VERSION:2.0
PRODID:-//Squarespace Inc/Squarespace 6//v6//EN
BEGIN:VEVENT
UID:5afa39770e2e72b3185e4094@squarespace.com
DTSTAMP:20180515T013616Z
DTSTART:20180611T020000Z
DTEND:20180611T070000Z
SUMMARY:OUTCAST
END:VEVENT
END:VCALENDAR
