BEGIN:VCALENDAR
VERSION:2.0
PRODID:-//Squarespace Inc/Squarespace 6//v6//EN
BEGIN:VEVENT
UID:5afcfc9703ce64542a613133@squarespace.com
DTSTAMP:20180517T035625Z
DTSTART:20180518T000000Z
DTEND:20180518T030000Z
SUMMARY:RED LIGHT CONFIDENTIAL
END:VEVENT
END:VCALENDAR
