BEGIN:VCALENDAR
VERSION:2.0
PRODID:-//Squarespace Inc/Squarespace 6//v6//EN
BEGIN:VEVENT
UID:5afa347a2b6a28d17427a795@squarespace.com
DTSTAMP:20180515T011605Z
DTSTART:20180602T000000Z
DTEND:20180602T070000Z
SUMMARY:DABBLE SESSIONS 4
END:VEVENT
END:VCALENDAR
