BEGIN:VCALENDAR
VERSION:2.0
PRODID:-//Squarespace Inc/Squarespace 6//v6//EN
BEGIN:VEVENT
UID:5aeaa2f32b6a283a9f8f90db@squarespace.com
DTSTAMP:20180521T000355Z
DTSTART:20180513T020000Z
DTEND:20180513T070000Z
SUMMARY:SWAGGER: BEYCHELLA
END:VEVENT
END:VCALENDAR
