BEGIN:VCALENDAR
VERSION:2.0
PRODID:-//Squarespace Inc/Squarespace 6//v6//EN
BEGIN:VEVENT
UID:5b020ceb03ce6487dbf8141e@squarespace.com
DTSTAMP:20180521T000429Z
DTSTART:20180610T020000Z
DTEND:20180610T070000Z
SUMMARY:SWAGGER
END:VEVENT
END:VCALENDAR
