BEGIN:VCALENDAR
VERSION:2.0
PRODID:-//Squarespace Inc/Squarespace 6//v6//EN
BEGIN:VEVENT
UID:5bdf874a562fa7a3ca96e891@squarespace.com
DTSTAMP:20181126T050230Z
DTSTART:20181216T020000Z
DTEND:20181216T080000Z
SUMMARY:STRUT PRESENTS: LITMUS &amp\; MARLEY SHERMAN
END:VEVENT
END:VCALENDAR
