BEGIN:VCALENDAR
VERSION:2.0
PRODID:-//Squarespace Inc/Squarespace 6//v6//EN
BEGIN:VEVENT
UID:5bce90654785d3965815790c@squarespace.com
DTSTAMP:20181023T030851Z
DTSTART:20181106T180000Z
DTEND:20181106T220000Z
SUMMARY:MELBOURNE CUP WITH MARILYN MOOTRUB
END:VEVENT
END:VCALENDAR
