BEGIN:VCALENDAR
VERSION:2.0
PRODID:-//Squarespace Inc/Squarespace 6//v6//EN
BEGIN:VEVENT
UID:5bfb7d014ae237e15d60e1e2@squarespace.com
DTSTAMP:20181126T045800Z
DTSTART:20181201T030000Z
DTEND:20181201T080000Z
SUMMARY:PELVIS PRESENT: SAMO DJ (SWEDEN)
END:VEVENT
END:VCALENDAR
