BEGIN:VCALENDAR
VERSION:2.0
PRODID:-//Squarespace Inc/Squarespace 6//v6//EN
BEGIN:VEVENT
UID:5bdf86fa03ce642d24a7bd42@squarespace.com
DTSTAMP:20181104T235644Z
DTSTART:20181128T013000Z
DTEND:20181128T023000Z
SUMMARY:A CYBORG LOVE AFFAIR: ANNUAL AFTER PARTY
END:VEVENT
END:VCALENDAR
