BEGIN:VCALENDAR
VERSION:2.0
PRODID:-//Squarespace Inc/Squarespace 6//v6//EN
BEGIN:VEVENT
UID:5bce91424192023439236499@squarespace.com
DTSTAMP:20181023T031203Z
DTSTART:20181119T010000Z
DTEND:20181119T020000Z
SUMMARY:PICNIC PRESENTS JAYDA G + WILLOW
END:VEVENT
END:VCALENDAR
