BEGIN:VCALENDAR
VERSION:2.0
PRODID:-//Squarespace Inc/Squarespace 6//v6//EN
BEGIN:VEVENT
UID:5b9729c64d7a9ca99dc87f74@squarespace.com
DTSTAMP:20180911T023600Z
DTSTART:20181007T020000Z
DTEND:20181007T030000Z
SUMMARY:CLUB MINCE: DJ QU (STRENGTH MUSIC)
END:VEVENT
END:VCALENDAR
