BEGIN:VCALENDAR
VERSION:2.0
PRODID:-//Squarespace Inc/Squarespace 6//v6//EN
BEGIN:VEVENT
UID:5bb582c17817f73b3f3396b2@squarespace.com
DTSTAMP:20181004T030326Z
DTSTART:20181103T010000Z
DTEND:20181103T020000Z
SUMMARY:CHARLI XCX AND BANOFFEE PRESENTS 1999
END:VEVENT
END:VCALENDAR
