BEGIN:VCALENDAR
VERSION:2.0
PRODID:-//Squarespace Inc/Squarespace 6//v6//EN
BEGIN:VEVENT
UID:5b9b2e4b4ae23739aa4467f9@squarespace.com
DTSTAMP:20180914T034459Z
DTSTART:20181013T010000Z
DTEND:20181013T020000Z
SUMMARY:BERMUDA CLUB FT CASSETTE + LEGENDS
END:VEVENT
END:VCALENDAR
